BEGIN:VCALENDAR
VERSION:2.0
PRODID:-//TVSchijndel//NONSGML kigkonsult.se iCalcreator 2.41.92//
CALSCALE:GREGORIAN
METHOD:PUBLISH
UID:65653832-3833-4237-b162-653432313034
X-WR-CALNAME:iCagenda
X-WR-CALDESC:Event Management Extension for Joomla!
X-WR-RELCALID:3E26604A-50F4-4449-8B3E-E4F4932D05B5
X-WR-TIMEZONE:Europe/Amsterdam
BEGIN:VTIMEZONE
TZID:Europe/Amsterdam
TZUNTIL:20280326T010000Z
BEGIN:STANDARD
TZNAME:CET
DTSTART:20251026T030000
TZOFFSETFROM:+0200
TZOFFSETTO:+0100
RDATE:20261025T030000
RDATE:20271031T030000
END:STANDARD
BEGIN:DAYLIGHT
TZNAME:CEST
DTSTART:20260329T020000
TZOFFSETFROM:+0100
TZOFFSETTO:+0200
RDATE:20270328T020000
END:DAYLIGHT
END:VTIMEZONE
BEGIN:VEVENT
UID:39316466-3033-4765-b534-323832343530
DTSTAMP:20260420T235102Z
CATEGORIES:Agenda
CLASS:PUBLIC
DESCRIPTION;ALTREP="CID:<FFFF__=0ABBE548DFE235B58f9e8a93d@coffeebean.com>":
 Voor de liefhebbers van het KeeZen spel. In de kantine van SV Avanti'31 wo
 rdt er weer een KeeZ toernooi georganiseerd. Wil je deelnemen aan dit toer
 nooi\, meld je dan per koppel aan door te mailen naar keezenavanti31@gmail
 .com of app naar: 06-57113819. Tussen 19.00 - 19.15 uur dient u aanwezig t
 e zijn zodat het toernooi om 19.30 uur kan starten. Er worden 5 rondes van
  max 45 minuten gespeeld. Het inschrijfgeld bedraagt € 5\,00 per persoon.
DTSTART:20260512T173000Z
DTEND:20260512T173000Z
GEO:00;0
LOCATION:Kantine Avanti\, Avantilaan 2
ORGANIZER:
SEQUENCE:1
SUMMARY:KeeZen  Avanti
TRANSP:OPAQUE
URL:https://www.tvschijndel.nl/agenda/3351-keezen-avanti/2026-05-12-19-30.h
 tml
END:VEVENT
END:VCALENDAR
