BEGIN:VCALENDAR
VERSION:2.0
PRODID:-//TVSchijndel//NONSGML kigkonsult.se iCalcreator 2.41.92//
CALSCALE:GREGORIAN
METHOD:PUBLISH
UID:36366131-6536-4238-b839-393930633561
X-WR-CALNAME:iCagenda
X-WR-CALDESC:Event Management Extension for Joomla!
X-WR-RELCALID:3E26604A-50F4-4449-8B3E-E4F4932D05B5
X-WR-TIMEZONE:Europe/Amsterdam
BEGIN:VTIMEZONE
TZID:Europe/Amsterdam
TZUNTIL:20280326T010000Z
BEGIN:STANDARD
TZNAME:CET
DTSTART:20251026T030000
TZOFFSETFROM:+0200
TZOFFSETTO:+0100
RDATE:20261025T030000
RDATE:20271031T030000
END:STANDARD
BEGIN:DAYLIGHT
TZNAME:CEST
DTSTART:20260329T020000
TZOFFSETFROM:+0100
TZOFFSETTO:+0200
RDATE:20270328T020000
END:DAYLIGHT
END:VTIMEZONE
BEGIN:VEVENT
UID:39623235-6638-4633-a638-353461316439
DTSTAMP:20260420T235052Z
CATEGORIES:Agenda
CLASS:PUBLIC
DESCRIPTION;ALTREP="CID:<FFFF__=0ABBE548DFE235B58f9e8a93d@coffeebean.com>":
 Voor de liefhebbers van het Tokken spel. In de kantine van Avanti'31 wordt
  er een Tokken toernooi georganiseerd. Wil je deelnemen aan dit toernooi\,
  meld je dan per koppel aan door te mailen naar keezenavanti31@gmail.com o
 f app naar: 06-57113819. Tussen 18.30 - 18.45 uur dient u aanwezig te zijn
  zodat het toernoi om 19.00 uur kan starten. Er worden 4 rondes van max 60
  minuten gespeeld. Het inschrijfgeld bedraagt € 5\,00 per persoon.
DTSTART:20260616T170000Z
DTEND:20260616T170000Z
GEO:00;0
LOCATION:Kantine Avanti\, Avantilaan 2
ORGANIZER:
SEQUENCE:1
SUMMARY:Tokken toernooi Avanti
TRANSP:OPAQUE
URL:https://www.tvschijndel.nl/agenda/3352-tokken-toernooi-avanti-2/2026-06
 -16-19-00.html
END:VEVENT
END:VCALENDAR
