BEGIN:VCALENDAR
VERSION:2.0
PRODID:-//TVSchijndel//NONSGML kigkonsult.se iCalcreator 2.41.92//
CALSCALE:GREGORIAN
METHOD:PUBLISH
UID:39366437-3336-4262-b066-336366623866
X-WR-CALNAME:iCagenda
X-WR-CALDESC:Event Management Extension for Joomla!
X-WR-RELCALID:3E26604A-50F4-4449-8B3E-E4F4932D05B5
X-WR-TIMEZONE:Europe/Amsterdam
BEGIN:VTIMEZONE
TZID:Europe/Amsterdam
TZUNTIL:20280326T010000Z
BEGIN:STANDARD
TZNAME:CET
DTSTART:20251026T030000
TZOFFSETFROM:+0200
TZOFFSETTO:+0100
RDATE:20261025T030000
RDATE:20271031T030000
END:STANDARD
BEGIN:DAYLIGHT
TZNAME:CEST
DTSTART:20260329T020000
TZOFFSETFROM:+0100
TZOFFSETTO:+0200
RDATE:20270328T020000
END:DAYLIGHT
END:VTIMEZONE
BEGIN:VEVENT
UID:33666137-6638-4663-b232-366437626130
DTSTAMP:20260420T234047Z
CATEGORIES:Agenda
CLASS:PUBLIC
DESCRIPTION;ALTREP="CID:<FFFF__=0ABBE548DFE235B58f9e8a93d@coffeebean.com>":
 Van vrijdag 8 mei t/m zondag 10 mei kun je in Schijndel niet om de kunst e
 n cultuur heen. Een vol programma in en rond het centrum biedt voor ieder 
 wat wils. Drie dagen lang staat Schijndel in het teken van creativiteit\, 
 muziek\, theater\, beeldende kunst en meer. In etalages van winkels en hor
 ecazaken ontdek je het werk van lokale schilders\, fotografen en beeldhouw
 ers. De route is op eigen gelegenheid te lopen en laat je zien hoeveel cre
 ativiteit Schijndel in huis heeft
DTSTART:20260508T080000Z
DTEND:20260510T200000Z
GEO:00;0
LOCATION:
ORGANIZER:
SEQUENCE:1
SUMMARY:Schijndel UitdeKunst: Cultuur
TRANSP:OPAQUE
URL:https://www.tvschijndel.nl/agenda/3440-schijndel-uitdekunst-cultuur.htm
 l
END:VEVENT
END:VCALENDAR
