BEGIN:VCALENDAR
VERSION:2.0
PRODID:-//TVSchijndel//NONSGML kigkonsult.se iCalcreator 2.41.92//
CALSCALE:GREGORIAN
METHOD:PUBLISH
UID:65393662-3865-4536-a136-343162393333
X-WR-CALNAME:iCagenda
X-WR-CALDESC:Event Management Extension for Joomla!
X-WR-RELCALID:3E26604A-50F4-4449-8B3E-E4F4932D05B5
X-WR-TIMEZONE:Europe/Amsterdam
BEGIN:VTIMEZONE
TZID:Europe/Amsterdam
TZUNTIL:20280326T010000Z
BEGIN:STANDARD
TZNAME:CET
DTSTART:20251026T030000
TZOFFSETFROM:+0200
TZOFFSETTO:+0100
RDATE:20261025T030000
RDATE:20271031T030000
END:STANDARD
BEGIN:DAYLIGHT
TZNAME:CEST
DTSTART:20260329T020000
TZOFFSETFROM:+0100
TZOFFSETTO:+0200
RDATE:20270328T020000
END:DAYLIGHT
END:VTIMEZONE
BEGIN:VEVENT
UID:33613539-3263-4232-b030-303538383733
DTSTAMP:20260420T234031Z
CATEGORIES:Agenda
CLASS:PUBLIC
DESCRIPTION;ALTREP="CID:<FFFF__=0ABBE548DFE235B58f9e8a93d@coffeebean.com>":
 Het tweede weekend van Schijndel UitdeKunst staat in het teken van Bourgon
 disch genieten. Denk aan goed eten\, sfeervolle muziek en samen proosten o
 p het goede leven. Dit alles vind plaats in het weekend van Hemelvaart. Ti
 jdens dit weekend serveren diverse Schijndelse restaurants een speciaal dr
 iegangenmenu.&nbsp\; Met De Buren Live op donderdag en vrijdag\, het koren
 festival op zaterdag en terrasmuziek en UitdeKunst-menu's op zondag. Op zo
 ndag 17 mei geniet je niet alleen van heerlijk eten maar ook van live akoe
 stisch muziek aan tafel. Reserveren kan rechtstreeks bij de deelnemende re
 staurants.
DTSTART:20260514T080000Z
DTEND:20260517T210000Z
GEO:00;0
LOCATION:
ORGANIZER:
SEQUENCE:1
SUMMARY:Schijndel UitdeKunst: Bourgondisch
TRANSP:OPAQUE
URL:https://www.tvschijndel.nl/agenda/3441-schijndel-uitdekunst-bourgondisc
 h.html
END:VEVENT
END:VCALENDAR
