BEGIN:VCALENDAR
VERSION:2.0
PRODID:-//TVSchijndel//NONSGML kigkonsult.se iCalcreator 2.41.92//
CALSCALE:GREGORIAN
METHOD:PUBLISH
UID:32636637-3963-4237-a339-646231653966
X-WR-CALNAME:iCagenda
X-WR-CALDESC:Event Management Extension for Joomla!
X-WR-RELCALID:3E26604A-50F4-4449-8B3E-E4F4932D05B5
X-WR-TIMEZONE:Europe/Amsterdam
BEGIN:VTIMEZONE
TZID:Europe/Amsterdam
TZUNTIL:20280326T010000Z
BEGIN:STANDARD
TZNAME:CET
DTSTART:20251026T030000
TZOFFSETFROM:+0200
TZOFFSETTO:+0100
RDATE:20261025T030000
RDATE:20271031T030000
END:STANDARD
BEGIN:DAYLIGHT
TZNAME:CEST
DTSTART:20260329T020000
TZOFFSETFROM:+0100
TZOFFSETTO:+0200
RDATE:20270328T020000
END:DAYLIGHT
END:VTIMEZONE
BEGIN:VEVENT
UID:32383533-3835-4137-b836-346465626639
DTSTAMP:20260420T233950Z
CATEGORIES:Agenda
CLASS:PUBLIC
DESCRIPTION;ALTREP="CID:<FFFF__=0ABBE548DFE235B58f9e8a93d@coffeebean.com>":
 Op zaterdag 23 mei en zondag 24 mei daagt Schijndel je uit om niet alleen 
 te kijken maar vooral ook mee te doen. Tijdens Schijndel Actief draait all
 es om zelf beleven\, ontdekken en bewegen. Diverse activiteiten waaraan je
  individueel of gezellig met een groep vrienden of familie aan kunt deelne
 men. Laat je verrassen en ontdek Schijndel op een heel nieuwe manier.
DTSTART:20260523T080000Z
DTEND:20260524T160000Z
GEO:00;0
LOCATION:
ORGANIZER:
SEQUENCE:1
SUMMARY:Schijndel UitdeKunst: Actief
TRANSP:OPAQUE
URL:https://www.tvschijndel.nl/agenda/3442-schijndel-uitdekunst-actief.html
END:VEVENT
END:VCALENDAR
