BEGIN:VCALENDAR
VERSION:2.0
PRODID:-//TVSchijndel//NONSGML kigkonsult.se iCalcreator 2.41.92//
CALSCALE:GREGORIAN
METHOD:PUBLISH
UID:61326635-3561-4131-b862-333634626234
X-WR-CALNAME:iCagenda
X-WR-CALDESC:Event Management Extension for Joomla!
X-WR-RELCALID:3E26604A-50F4-4449-8B3E-E4F4932D05B5
X-WR-TIMEZONE:Europe/Amsterdam
BEGIN:VTIMEZONE
TZID:Europe/Amsterdam
TZUNTIL:20280326T010000Z
BEGIN:STANDARD
TZNAME:CET
DTSTART:20251026T030000
TZOFFSETFROM:+0200
TZOFFSETTO:+0100
RDATE:20261025T030000
RDATE:20271031T030000
END:STANDARD
BEGIN:DAYLIGHT
TZNAME:CEST
DTSTART:20260329T020000
TZOFFSETFROM:+0100
TZOFFSETTO:+0200
RDATE:20270328T020000
END:DAYLIGHT
END:VTIMEZONE
BEGIN:VEVENT
UID:63356264-3538-4335-b561-343636663630
DTSTAMP:20260420T233950Z
CATEGORIES:Agenda
CLASS:PUBLIC
DESCRIPTION;ALTREP="CID:<FFFF__=0ABBE548DFE235B58f9e8a93d@coffeebean.com>":
 Op zaterdag 13 en zondag 14 juni vindt in het Schijndelse Kloosterpark het
  1 Ander Festival plaats. Hét culturele ontmoetingsfeest van Schijndel en 
 omstreken is daarbij ook dit jaar weer op beide dagen gratis te bezoeken. 
 1 Ander Festival viert al weer haar 31e editie.WanneerZaterdag 13 juni 202
 6 15.00 - 00.00 uurZondag 14 juni 2026 13.00 - 22.00 uur
DTSTART:20260612T220000Z
DTEND:20260613T220000Z
GEO:00;0
LOCATION:Kloosterpark Schijndel
ORGANIZER:
SEQUENCE:1
SUMMARY:1 Ander Festival
TRANSP:OPAQUE
URL:https://www.tvschijndel.nl/agenda/3448-1-ander-festival-3.html
END:VEVENT
END:VCALENDAR
