BEGIN:VCALENDAR
VERSION:2.0
PRODID:-//TVSchijndel//NONSGML kigkonsult.se iCalcreator 2.41.92//
CALSCALE:GREGORIAN
METHOD:PUBLISH
UID:34636432-3833-4736-b165-613466366534
X-WR-CALNAME:iCagenda
X-WR-CALDESC:Event Management Extension for Joomla!
X-WR-RELCALID:3E26604A-50F4-4449-8B3E-E4F4932D05B5
X-WR-TIMEZONE:Europe/Amsterdam
BEGIN:VTIMEZONE
TZID:Europe/Amsterdam
TZUNTIL:20280326T010000Z
BEGIN:STANDARD
TZNAME:CET
DTSTART:20251026T030000
TZOFFSETFROM:+0200
TZOFFSETTO:+0100
RDATE:20261025T030000
RDATE:20271031T030000
END:STANDARD
BEGIN:DAYLIGHT
TZNAME:CEST
DTSTART:20260329T020000
TZOFFSETFROM:+0100
TZOFFSETTO:+0200
RDATE:20270328T020000
END:DAYLIGHT
END:VTIMEZONE
BEGIN:VEVENT
UID:61316632-3566-4233-b664-356564316562
DTSTAMP:20260420T234342Z
CATEGORIES:Agenda
CLASS:PUBLIC
DESCRIPTION;ALTREP="CID:<FFFF__=0ABBE548DFE235B58f9e8a93d@coffeebean.com>":
 Op de kermis in Schijndel is van alles te beleven voor jong en oud.&nbsp\;
 Je kunt er genieten van oliebollen\, zuurstokken\, suikerspinnen en ander 
 snoepgoed. Grijp je kans met touwtje trekken of maak een ritje in de botsa
 uto’s of draaimolen. Zelfs voor de echte waaghalzen is er van alles te vin
 den.
DTSTART:20260710T220000Z
DTEND:20260714T220000Z
GEO:00;0
LOCATION:Evenemententerrein de Steeg
ORGANIZER:
SEQUENCE:1
SUMMARY:Kermis Schijndel
TRANSP:OPAQUE
URL:https://www.tvschijndel.nl/agenda/3460-kermis-schijndel-4.html
END:VEVENT
END:VCALENDAR
