BEGIN:VCALENDAR
VERSION:2.0
PRODID:-//TVSchijndel//NONSGML kigkonsult.se iCalcreator 2.41.92//
CALSCALE:GREGORIAN
METHOD:PUBLISH
UID:34646166-3338-4231-b666-666332633964
X-WR-CALNAME:iCagenda
X-WR-CALDESC:Event Management Extension for Joomla!
X-WR-RELCALID:3E26604A-50F4-4449-8B3E-E4F4932D05B5
X-WR-TIMEZONE:Europe/Amsterdam
BEGIN:VTIMEZONE
TZID:Europe/Amsterdam
TZUNTIL:20280326T010000Z
BEGIN:STANDARD
TZNAME:CET
DTSTART:20251026T030000
TZOFFSETFROM:+0200
TZOFFSETTO:+0100
RDATE:20261025T030000
RDATE:20271031T030000
END:STANDARD
BEGIN:DAYLIGHT
TZNAME:CEST
DTSTART:20260329T020000
TZOFFSETFROM:+0100
TZOFFSETTO:+0200
RDATE:20270328T020000
END:DAYLIGHT
END:VTIMEZONE
BEGIN:VEVENT
UID:61653030-3861-4463-b633-663962623830
DTSTAMP:20260420T233813Z
CATEGORIES:Agenda
CLASS:PUBLIC
DESCRIPTION;ALTREP="CID:<FFFF__=0ABBE548DFE235B58f9e8a93d@coffeebean.com>":
 Aan de rand van de geschiedenis\, waar morele grenzen vervagen\, plaats Be
 rt Natter zijn nieuwste roman. Op woensdag 6 mei komt deze auteur naar de 
 Bibliotheek Schijndel om te spreken over Aan het Einde van de oorlog (2025
 )\, een indringende roman die zich afspeelt in de laatste dagen van de Twe
 ede Wereldoorlog. Frank Verhallen\, schrijven en voormalig kunstredacteur 
 van Trouw neemt het interview voor zijn rekening. Beide auteurs hebben dez
 elfde uitgever wat het gesprek een extra dimensie geeft. Kaarten voor deze
  avond kosten €11\,50\, leden van de Bibliotheek en CJP-leden betalen €8\,
 50. Kaarten zijn verkrijgbaar via www.nobb.op-shop.nl/activiteiten&nbsp\;e
 n bij alle vestigingen van de Noord Oost Brabantse Bibliotheken. De deuren
  van de Bibliotheek Schijndel gaan open om 19.30 uur. om 20.00 uur start h
 et interview inde Raadzaal
DTSTART:20260506T180000Z
DTEND:20260506T200000Z
GEO:00;0
LOCATION:RAADhuis Schijndel
ORGANIZER:
SEQUENCE:1
SUMMARY:Lezing Bert Natter
TRANSP:OPAQUE
URL:https://www.tvschijndel.nl/agenda/3478-lezing-bert-natter.html
END:VEVENT
END:VCALENDAR
