BEGIN:VCALENDAR
VERSION:2.0
PRODID:-//TVSchijndel//NONSGML kigkonsult.se iCalcreator 2.41.92//
CALSCALE:GREGORIAN
METHOD:PUBLISH
UID:65326232-6435-4162-b862-656364356564
X-WR-CALNAME:iCagenda
X-WR-CALDESC:Event Management Extension for Joomla!
X-WR-RELCALID:3E26604A-50F4-4449-8B3E-E4F4932D05B5
X-WR-TIMEZONE:Europe/Amsterdam
BEGIN:VTIMEZONE
TZID:Europe/Amsterdam
TZUNTIL:20280326T010000Z
BEGIN:STANDARD
TZNAME:CET
DTSTART:20251026T030000
TZOFFSETFROM:+0200
TZOFFSETTO:+0100
RDATE:20261025T030000
RDATE:20271031T030000
END:STANDARD
BEGIN:DAYLIGHT
TZNAME:CEST
DTSTART:20260329T020000
TZOFFSETFROM:+0100
TZOFFSETTO:+0200
RDATE:20270328T020000
END:DAYLIGHT
END:VTIMEZONE
BEGIN:VEVENT
UID:30326366-6531-4565-b062-663634643739
DTSTAMP:20260420T234448Z
CATEGORIES:Agenda
CLASS:PUBLIC
DESCRIPTION;ALTREP="CID:<FFFF__=0ABBE548DFE235B58f9e8a93d@coffeebean.com>":
 Op zaterdag 9 mei en zondag 10 mei is het Nationale Molendag.&nbsp\; Tijde
 ns dit weekend openen vele molens in Nederland\, waaronder in Schijndel\, 
 Molen De Duif en Molen De Pegstukken hun deuren voor publiek en&nbsp\; bij
  voldoende wind draaien.
DTSTART:20260510T125200Z
DTEND:20260510T125200Z
GEO:00;0
LOCATION:
ORGANIZER:
SEQUENCE:1
SUMMARY:Nationale Molendag
TRANSP:OPAQUE
URL:https://www.tvschijndel.nl/agenda/3480-nationale-molendag-2/2026-05-10-
 14-52.html
END:VEVENT
END:VCALENDAR
