BEGIN:VCALENDAR
VERSION:2.0
PRODID:-//TVSchijndel//NONSGML kigkonsult.se iCalcreator 2.41.92//
CALSCALE:GREGORIAN
METHOD:PUBLISH
UID:31396539-3831-4730-b630-363730653661
X-WR-CALNAME:iCagenda
X-WR-CALDESC:Event Management Extension for Joomla!
X-WR-RELCALID:3E26604A-50F4-4449-8B3E-E4F4932D05B5
X-WR-TIMEZONE:Europe/Amsterdam
BEGIN:VTIMEZONE
TZID:Europe/Amsterdam
TZUNTIL:20271031T010000Z
BEGIN:STANDARD
TZNAME:CET
DTSTART:20251026T030000
TZOFFSETFROM:+0200
TZOFFSETTO:+0100
RDATE:20261025T030000
END:STANDARD
BEGIN:DAYLIGHT
TZNAME:CEST
DTSTART:20260329T020000
TZOFFSETFROM:+0100
TZOFFSETTO:+0200
RDATE:20270328T020000
END:DAYLIGHT
END:VTIMEZONE
BEGIN:VEVENT
UID:36316238-3663-4437-b035-363030636231
DTSTAMP:20260420T233711Z
CATEGORIES:Agenda
CLASS:PUBLIC
DESCRIPTION;ALTREP="CID:<FFFF__=0ABBE548DFE235B58f9e8a93d@coffeebean.com>":
 Biercantus\, zoals de naam al verraadt ga je samen met de heren van het Ca
 ntusteam een feest der herkenning aan. Een feest vol met grappen en vunzig
 heid. Dat is waar het om draait. Iedereen blijft netjes op de banken zitte
 n en zal pas opstaan als de praeses dit aangeeft. Zingen doe je op command
 o. Luister je niet naar de heren op het podium? Dan zal er een gepaste str
 af volgen. Adje gestrekte arm\, adje standje 69\, adje schoen\, adje sok\,
  estafetten adten\, adje vleermuis\, adje kandelaar\, je kan het zo gek ni
 et bedenken. De show zit vol met straffen\, spellen en gezelligheid. Heb j
 e daar iets op aan te merken? Dan mag je even bij de praeses op het podium
  komen. Dus\, waar wacht je nog op? Van dit feest ga je zeker geen spijt k
 rijgen! Met Guus Meeuwis tot aan Jannes en van Unwritten tot aan Let it Be
 . Alle klassiekers komen langs. Ticket á € 15\,00 zijn te bestellen via sh
 op.weeztix.com
DTSTART:20260425T170000Z
DTEND:20260425T215900Z
GEO:00;0
LOCATION:
ORGANIZER:
SEQUENCE:1
SUMMARY:Biercantus
TRANSP:OPAQUE
URL:https://www.tvschijndel.nl/agenda/3492-biercantus.html
END:VEVENT
END:VCALENDAR
