BEGIN:VCALENDAR
VERSION:2.0
PRODID:-//TVSchijndel//NONSGML kigkonsult.se iCalcreator 2.41.92//
CALSCALE:GREGORIAN
METHOD:PUBLISH
UID:33366437-3439-4265-b331-393562356461
X-WR-CALNAME:iCagenda
X-WR-CALDESC:Event Management Extension for Joomla!
X-WR-RELCALID:3E26604A-50F4-4449-8B3E-E4F4932D05B5
X-WR-TIMEZONE:Europe/Amsterdam
BEGIN:VTIMEZONE
TZID:Europe/Amsterdam
TZUNTIL:20280326T010000Z
BEGIN:STANDARD
TZNAME:CET
DTSTART:20251026T030000
TZOFFSETFROM:+0200
TZOFFSETTO:+0100
RDATE:20261025T030000
RDATE:20271031T030000
END:STANDARD
BEGIN:DAYLIGHT
TZNAME:CEST
DTSTART:20260329T020000
TZOFFSETFROM:+0100
TZOFFSETTO:+0200
RDATE:20270328T020000
END:DAYLIGHT
END:VTIMEZONE
BEGIN:VEVENT
UID:66303530-6139-4238-a437-613439343261
DTSTAMP:20260420T234753Z
CATEGORIES:Agenda
CLASS:PUBLIC
DESCRIPTION;ALTREP="CID:<FFFF__=0ABBE548DFE235B58f9e8a93d@coffeebean.com>":
 De Leeslijn is de rijdende Bibliotheek van Meierijstad. Je vindt de Leesli
 jn op plekken waar mensen samenkomen\, jong én oud\, bij buurthuizen\, sch
 olen\, op markten en festivals. Dit kun je bij de Leeslijn doen: Leen een 
 mooi boek - voor jezelf\, je (klein)kind of iemand anders\, heb je vragen 
 over DigiD\, je zorgverzekering of andere online zaken? We helpen je graag
  verder. Ontdek hoe je kunt oefenen met taal en digitale vaardigheden Geni
 et van onze programmering op scholen en festivals - er is altijd iets te o
 ntdekken. De Bibliotheek is er voor iedereen\, ook in jouw buurt.
DTSTART:20260824T080000Z
DTEND:20260824T080000Z
GEO:00;0
LOCATION:
ORGANIZER:
SEQUENCE:1
SUMMARY:De Leeslijn brengt de Bibliotheek naar je toe.
TRANSP:OPAQUE
URL:https://www.tvschijndel.nl/agenda/3493-de-leeslijn-brengt-de-bibliothee
 k-naar-je-toe/2026-08-24-10-00.html
END:VEVENT
END:VCALENDAR
