BEGIN:VCALENDAR
VERSION:2.0
PRODID:-//TVSchijndel//NONSGML kigkonsult.se iCalcreator 2.41.92//
CALSCALE:GREGORIAN
METHOD:PUBLISH
UID:39323164-6434-4837-a232-643536363932
X-WR-CALNAME:iCagenda
X-WR-CALDESC:Event Management Extension for Joomla!
X-WR-RELCALID:3E26604A-50F4-4449-8B3E-E4F4932D05B5
X-WR-TIMEZONE:Europe/Amsterdam
BEGIN:VTIMEZONE
TZID:Europe/Amsterdam
TZUNTIL:20271031T010000Z
BEGIN:STANDARD
TZNAME:CET
DTSTART:20251026T030000
TZOFFSETFROM:+0200
TZOFFSETTO:+0100
RDATE:20261025T030000
END:STANDARD
BEGIN:DAYLIGHT
TZNAME:CEST
DTSTART:20260329T020000
TZOFFSETFROM:+0100
TZOFFSETTO:+0200
RDATE:20270328T020000
END:DAYLIGHT
END:VTIMEZONE
BEGIN:VEVENT
UID:30383136-3735-4232-b366-613930376536
DTSTAMP:20260420T234539Z
CATEGORIES:Agenda
CLASS:PUBLIC
DESCRIPTION;ALTREP="CID:<FFFF__=0ABBE548DFE235B58f9e8a93d@coffeebean.com>":
 Sirat is een spectaculaire film\, waarin een verdwenen dochter\, woestijnz
 and en de elektronische beats van Kangding Ray een unieke filmervaring opl
 everen. Luis arriveert met zijn zoontje Esteban op een illegale rave diep 
 in de woestijn in Zuid-Marokko. Hij is op zoek naar zijn dochter Mar\, die
  maanden geleden verdween tijdens een dan deze grenzeloze feesten. Wanhopi
 g op zoek naar een laatste spoor van Mar\, volgen ze een groep ravers nog 
 dieper de woestijn in. Dit wordt een fysieke en spirituele trip\, begeleid
  door een hypnotiserende soundtrack.. Kaarten leden € 6\,50 en voor niet l
 eden € 8\,50 zijn verkrijgbaar via schijndelfilm.nl
DTSTART:20260421T180000Z
DTEND:20260421T200000Z
GEO:00;0
LOCATION:Spectrum\, Steeg 9\, Schijndel
ORGANIZER:
SEQUENCE:1
SUMMARY:Filmclub Schijndel: Sirat
TRANSP:OPAQUE
URL:https://www.tvschijndel.nl/agenda/3506-filmclub-schijndel-sirat.html
END:VEVENT
END:VCALENDAR
