BEGIN:VCALENDAR
VERSION:2.0
PRODID:-//TVSchijndel//NONSGML kigkonsult.se iCalcreator 2.41.92//
CALSCALE:GREGORIAN
METHOD:PUBLISH
UID:34626331-3265-4639-b664-636334613062
X-WR-CALNAME:iCagenda
X-WR-CALDESC:Event Management Extension for Joomla!
X-WR-RELCALID:3E26604A-50F4-4449-8B3E-E4F4932D05B5
X-WR-TIMEZONE:Europe/Amsterdam
BEGIN:VTIMEZONE
TZID:Europe/Amsterdam
TZUNTIL:20271031T010000Z
BEGIN:STANDARD
TZNAME:CET
DTSTART:20251026T030000
TZOFFSETFROM:+0200
TZOFFSETTO:+0100
RDATE:20261025T030000
END:STANDARD
BEGIN:DAYLIGHT
TZNAME:CEST
DTSTART:20260329T020000
TZOFFSETFROM:+0100
TZOFFSETTO:+0200
RDATE:20270328T020000
END:DAYLIGHT
END:VTIMEZONE
BEGIN:VEVENT
UID:63313462-3764-4432-a361-396436346136
DTSTAMP:20260420T233920Z
CATEGORIES:Agenda
CLASS:PUBLIC
DESCRIPTION;ALTREP="CID:<FFFF__=0ABBE548DFE235B58f9e8a93d@coffeebean.com>":
 Verkoop spulletjes waar je zelf niets meer mee doet tijdens de Kindervrijm
 arkt. Meld je tussen 10.00 en 11.00 uur aan bij de Oranjetent op de Markt.
  Je krijgt dan meteen te horen waar je mag gaan zitten. Vanaf 11.00 uur st
 art de verkoop. Deelname is gratis.
DTSTART:20260427T090000Z
DTEND:20260427T140000Z
GEO:00;0
LOCATION:
ORGANIZER:
SEQUENCE:1
SUMMARY:Kindervrijmarkt
TRANSP:OPAQUE
URL:https://www.tvschijndel.nl/agenda/3508-kindervrijmarkt.html
END:VEVENT
END:VCALENDAR
