BEGIN:VCALENDAR
VERSION:2.0
PRODID:-//TVSchijndel//NONSGML kigkonsult.se iCalcreator 2.41.92//
CALSCALE:GREGORIAN
METHOD:PUBLISH
UID:33633136-6362-4639-a264-313538336561
X-WR-CALNAME:iCagenda
X-WR-CALDESC:Event Management Extension for Joomla!
X-WR-RELCALID:3E26604A-50F4-4449-8B3E-E4F4932D05B5
X-WR-TIMEZONE:Europe/Amsterdam
BEGIN:VTIMEZONE
TZID:Europe/Amsterdam
TZUNTIL:20271031T010000Z
BEGIN:STANDARD
TZNAME:CET
DTSTART:20251026T030000
TZOFFSETFROM:+0200
TZOFFSETTO:+0100
RDATE:20261025T030000
END:STANDARD
BEGIN:DAYLIGHT
TZNAME:CEST
DTSTART:20260329T020000
TZOFFSETFROM:+0100
TZOFFSETTO:+0200
RDATE:20270328T020000
END:DAYLIGHT
END:VTIMEZONE
BEGIN:VEVENT
UID:66333932-6366-4130-a662-653837313838
DTSTAMP:20260420T234412Z
CATEGORIES:Agenda
CLASS:PUBLIC
DESCRIPTION;ALTREP="CID:<FFFF__=0ABBE548DFE235B58f9e8a93d@coffeebean.com>":
 Op dinsdag 28 april vertoont Filmclub Schijndel de boeiende documentaire M
 eer Dan Babi Pangang. Meer Dan Babi Pangang is een ode aan de eerste gener
 atie Chinese Nederlanders die met hard werken een onmisbaar onderdeel van 
 het Nederlandse straatbeeld heeft opgebouwd. Tegelijkertijd is het een uit
 nodiging om verder te kijken dan het afhaalmenu. De documentaire is te zie
 n in Het Gasthuis\, aanvang 20.00 uur. Reserveren kan alleen online via ww
 w. schijndelfilm.nl. De toegangsprijs voor leden is €6\,00\, voor niet-led
 en €7\,50.
DTSTART:20260428T180000Z
DTEND:20260428T203000Z
GEO:00;0
LOCATION:Het Gasthuis Lidwinahof 70 Schijndel
ORGANIZER:
SEQUENCE:1
SUMMARY:Film 'Meer Dan Babi Pangang'
TRANSP:OPAQUE
URL:https://www.tvschijndel.nl/agenda/3509-film-meer-dan-babi-pangang.html
END:VEVENT
END:VCALENDAR
